BEGIN:VCALENDAR
VERSION:2.0
PRODID:-//Saratech - ECPv6.15.20//NONSGML v1.0//EN
CALSCALE:GREGORIAN
METHOD:PUBLISH
X-ORIGINAL-URL:https://saratech.com
X-WR-CALDESC:Events for Saratech
REFRESH-INTERVAL;VALUE=DURATION:PT1H
X-Robots-Tag:noindex
X-PUBLISHED-TTL:PT1H
BEGIN:VTIMEZONE
TZID:America/Los_Angeles
BEGIN:DAYLIGHT
TZOFFSETFROM:-0800
TZOFFSETTO:-0700
TZNAME:PDT
DTSTART:20250309T100000
END:DAYLIGHT
BEGIN:STANDARD
TZOFFSETFROM:-0700
TZOFFSETTO:-0800
TZNAME:PST
DTSTART:20251102T090000
END:STANDARD
BEGIN:DAYLIGHT
TZOFFSETFROM:-0800
TZOFFSETTO:-0700
TZNAME:PDT
DTSTART:20260308T100000
END:DAYLIGHT
BEGIN:STANDARD
TZOFFSETFROM:-0700
TZOFFSETTO:-0800
TZNAME:PST
DTSTART:20261101T090000
END:STANDARD
BEGIN:DAYLIGHT
TZOFFSETFROM:-0800
TZOFFSETTO:-0700
TZNAME:PDT
DTSTART:20270314T100000
END:DAYLIGHT
BEGIN:STANDARD
TZOFFSETFROM:-0700
TZOFFSETTO:-0800
TZNAME:PST
DTSTART:20271107T090000
END:STANDARD
END:VTIMEZONE
BEGIN:VEVENT
DTSTART;VALUE=DATE:20260601
DTEND;VALUE=DATE:20260605
DTSTAMP:20260422T033635
CREATED:20260331T164859Z
LAST-MODIFIED:20260331T172243Z
UID:10007855-1780272000-1780617599@saratech.com
SUMMARY:Realize LIVE 2026 – The Digital Transformation Conference
DESCRIPTION:Join Saratech & Siemens at Realize LIVE 2026\nGet $200 off Your Realize LIVE Full Conference Pass! Enter ‘Saratech’ in the Partner Field. \n(Select ‘Partner/Reseller’ in the ‘How did you hear about Realize LIVE?’ field\, then enter ‘Saratech’ in the Partner field.) \nRegister Now\n \nRealize LIVE 2026 is Siemens’ premier digital transformation event—bringing together engineers\, leaders\, and innovators to explore how modern product development is evolving across design\, simulation\, manufacturing\, and PLM. \nAt Realize LIVE\, you’ll find more than sessions—you’ll find real-world applications of AI\, digital threads\, and connected engineering in action. It’s where ideas move beyond theory and into execution.\nAnd this year\, Saratech is showing up with purpose. \nWe’re not just attending—we’re leading sessions\, sharing insights\, and creating opportunities to connect around real engineering challenges. \nWhy You Should Attend:\n\nSee What’s Actually Working: Learn how organizations are applying Siemens solutions across engineering and manufacturing—based on real use cases\, not just concepts\nBuild Practical Skills: Take part in hands-on learning\, technical sessions\, and deep dives that you can apply directly to your workflows.\nStay Ahead of What’s Next: Explore product updates\, roadmap direction\, and emerging technologies shaping the future of digital engineering.\nConnect With the Right People: Engage with Siemens experts\, partners\, and peers who are solving similar challenges across industries.\nExperience the Ecosystem Firsthand: From live demos to the Solutions Center\, see how the full Siemens ecosystem comes together.\n\n\n\n \nWhere Saratech Comes In:\nSaratech works with engineering teams every day to implement\, optimize\, and scale Siemens solutions—and we’re bringing that real-world perspective to Realize LIVE. \nAt this year’s event\, you can: \n\nAttend Saratech-led sessions focused on practical workflows and real customer outcomes\nJoin the conversation during and after sessions—bring your questions\nConnect with our team throughout the event to compare approaches\, challenges\, and ideas\n\nWe’re there to make the event more valuable for you—not just to talk\, but to engage. \nHow to Get More Out of the Event:\nRealize LIVE moves fast. The teams that get the most value are the ones who come in with a plan—and leave with clear takeaways. \nA few ways to make it count: \n\nLook for sessions that align with your current challenges (including Saratech-led sessions)\nCome prepared with a question or problem you’re trying to solve\nake time to connect with others working through similar issues\n\nJoin a session. Start a conversation. Walk away with something useful. \nWho Should Attend:\nRealize LIVE is designed for professionals across: \n\nEngineering & Product Development\nManufacturing & Operations\nSimulation & Analysis\nPLM & Data Management\nIT & Digital Transformation Leadership\n\nIf you’re focused on improving performance\, scaling processes\, or connecting your engineering workflows\, this event is built for you.
URL:https://saratech.com/event/realize-live-2026/
LOCATION:Huntington Place\, 1 Washington Blvd\, Detroit\, MI\, 48226\, United States
CATEGORIES:Live Event
ATTACH;FMTTYPE=image/webp:https://saratech.com/wp-content/uploads/2026/03/Realize-Live-Event-2026-P-FB-1200x630-1.webp
END:VEVENT
END:VCALENDAR