BEGIN:VCALENDAR
VERSION:2.0
PRODID:-//Saratech - ECPv6.15.20//NONSGML v1.0//EN
CALSCALE:GREGORIAN
METHOD:PUBLISH
X-WR-CALNAME:Saratech
X-ORIGINAL-URL:https://saratech.com
X-WR-CALDESC:Events for Saratech
REFRESH-INTERVAL;VALUE=DURATION:PT1H
X-Robots-Tag:noindex
X-PUBLISHED-TTL:PT1H
BEGIN:VTIMEZONE
TZID:America/Los_Angeles
BEGIN:DAYLIGHT
TZOFFSETFROM:-0800
TZOFFSETTO:-0700
TZNAME:PDT
DTSTART:20240310T100000
END:DAYLIGHT
BEGIN:STANDARD
TZOFFSETFROM:-0700
TZOFFSETTO:-0800
TZNAME:PST
DTSTART:20241103T090000
END:STANDARD
BEGIN:DAYLIGHT
TZOFFSETFROM:-0800
TZOFFSETTO:-0700
TZNAME:PDT
DTSTART:20250309T100000
END:DAYLIGHT
BEGIN:STANDARD
TZOFFSETFROM:-0700
TZOFFSETTO:-0800
TZNAME:PST
DTSTART:20251102T090000
END:STANDARD
BEGIN:DAYLIGHT
TZOFFSETFROM:-0800
TZOFFSETTO:-0700
TZNAME:PDT
DTSTART:20260308T100000
END:DAYLIGHT
BEGIN:STANDARD
TZOFFSETFROM:-0700
TZOFFSETTO:-0800
TZNAME:PST
DTSTART:20261101T090000
END:STANDARD
END:VTIMEZONE
BEGIN:VEVENT
DTSTART;TZID=America/Los_Angeles:20250416T090000
DTEND;TZID=America/Los_Angeles:20250416T150000
DTSTAMP:20260422T144037
CREATED:20250219T202720Z
LAST-MODIFIED:20250903T165008Z
UID:10000070-1744794000-1744815600@saratech.com
SUMMARY:Siemens DISW Regional Users Club – Hosted by Saratech
DESCRIPTION:This Event Has Expired\nPlease take a look at our upcoming events. \nJoin Us for the Siemens DISW Regional Users Club!\nSaratech is excited to host the Siemens DISW Regional Users Club in Costa Mesa\, CA! This exclusive in-person event is designed for Siemens users and managers to gain valuable insights\, exchange ideas\, and explore the latest innovations in digital transformation\, NX\, Teamcenter\, PLM practices\, and manufacturing with NX CAM. \nWhy You Should Attend:\n\nSiemens Keynote Presentation: Learn how digital threads can boost profitability\nHands-On Insights: Discover best practices for design reviews\, BOM management\, and PLM alignment\nNX & Teamcenter Updates: Explore the future of AI in NX\, visualization advancements\, and key PLM innovations\nIndustry Perspectives: Hear from leading companies and industry experts on real-world applications\n\nWho Should Attend:\nThis event is perfect for Siemens users and managers looking to deepen their understanding of digital transformation\, NX design\, PLM administration\, BOM management\, and advanced manufacturing techniques. \nStay ahead of the competition by networking with industry experts\, learning about the latest Siemens solutions\, and gaining actionable strategies to enhance your business operations.
URL:https://saratech.com/event/siemens-disw-ruc-hosted-by-saratech/
LOCATION:Siemens Costa Mesa Office\, 535 Anton Blvd\, Costa Mesa\, CA\, 92626\, United States
CATEGORIES:Live Event
ATTACH;FMTTYPE=image/jpeg:https://saratech.com/wp-content/uploads/2025/02/FB-1200x630-LIVE-EVENT-RUC.jpg
END:VEVENT
END:VCALENDAR